BEGIN:VCALENDAR
VERSION:2.0
PRODID:-//wp-events-plugin.com//7.2.3.1//EN
TZID:America/Los_Angeles
X-WR-TIMEZONE:America/Los_Angeles
BEGIN:VEVENT
UID:30@lafilm.edu
DTSTART;TZID=America/Los_Angeles:20260311T173000
DTEND;TZID=America/Los_Angeles:20260311T173000
DTSTAMP:20260305T043018Z
URL:https://www.lafilm.edu/events/animation-department-presents-board-game
 -night/
SUMMARY:Animation Department Presents: Board Game Night
DESCRIPTION:Join us for Game Night! Play a variety of games with or against
  your friends\, grab some food and relax with other LAFS and LARS students
 .\n\nParticipants in clubs must be current\, active students.
ATTACH;FMTTYPE=image/jpeg:https://www.lafilm.edu/wp-content/uploads/2026/0
 3/NEWSLETTER_board-game-night-560x560-1.webp
CATEGORIES:Socialize IRL
LOCATION:In Person\, \, 
X-APPLE-STRUCTURED-LOCATION;VALUE=URI;X-ADDRESS=\, ;X-APPLE-RADIUS=100;X-TI
 TLE=In Person:geo:0,0
END:VEVENT
BEGIN:VTIMEZONE
TZID:America/Los_Angeles
X-LIC-LOCATION:America/Los_Angeles
BEGIN:DAYLIGHT
DTSTART:20260308T030000
TZOFFSETFROM:-0800
TZOFFSETTO:-0700
TZNAME:PDT
END:DAYLIGHT
END:VTIMEZONE
END:VCALENDAR