BEGIN:VCALENDAR
VERSION:2.0
PRODID:-//wp-events-plugin.com//7.2.3.1//EN
TZID:America/Los_Angeles
X-WR-TIMEZONE:America/Los_Angeles
BEGIN:VEVENT
UID:25@lafilm.edu
DTSTART;TZID=America/Los_Angeles:20260303T120000
DTEND;TZID=America/Los_Angeles:20260303T120000
DTSTAMP:20260224T182855Z
URL:https://www.lafilm.edu/events/beat-social/
SUMMARY:Beat Social
DESCRIPTION:Express your creativity through sound at the Beat Social\, an o
 pen mic for producers. Hang out\, enjoy some snacks\, and vibe with fellow
  students at this casual beat showcase — just show up\, bring your beats
 \, and have your MP3s ready! Performers will go in the order they sign up 
 that day.\n\nNote: this event is only open to students with student ID
ATTACH;FMTTYPE=image/jpeg:https://www.lafilm.edu/wp-content/uploads/2026/0
 2/Beat-Social-14-Blue-BS-NL-560x560-1.webp
CATEGORIES:Show Your Skills,Socialize IRL
LOCATION:In Person\, \, 
X-APPLE-STRUCTURED-LOCATION;VALUE=URI;X-ADDRESS=\, ;X-APPLE-RADIUS=100;X-TI
 TLE=In Person:geo:0,0
END:VEVENT
BEGIN:VTIMEZONE
TZID:America/Los_Angeles
X-LIC-LOCATION:America/Los_Angeles
BEGIN:STANDARD
DTSTART:20251102T010000
TZOFFSETFROM:-0700
TZOFFSETTO:-0800
TZNAME:PST
END:STANDARD
END:VTIMEZONE
END:VCALENDAR