BEGIN:VCALENDAR
VERSION:2.0
PRODID:-//wp-events-plugin.com//7.2.3.1//EN
TZID:America/Los_Angeles
X-WR-TIMEZONE:America/Los_Angeles
BEGIN:VEVENT
UID:31@lafilm.edu
DTSTART;TZID=America/Los_Angeles:20260317T150000
DTEND;TZID=America/Los_Angeles:20260317T160000
DTSTAMP:20260313T234518Z
URL:https://www.lafilm.edu/events/critical-thinkers-society-online-the-sci
 ence-behind-digital-manipulation/
SUMMARY:Critical Thinkers Society Online: The Science Behind Digital Manipu
 lation
DESCRIPTION:Connect to an experience designed for digital storytellers of t
 omorrow. Are AI engines and secret data systems shaping our daily lives? E
 xplore the science of persuasion in digital media\, and let us hear your v
 oice. Participants in clubs must be current\, active students.
ATTACH;FMTTYPE=image/jpeg:https://www.lafilm.edu/wp-content/uploads/2020/0
 3/critical-thinkers.jpg
CATEGORIES:Student Clubs
LOCATION:Online\, \, United States
X-APPLE-STRUCTURED-LOCATION;VALUE=URI;X-ADDRESS=\, United States;X-APPLE-RA
 DIUS=100;X-TITLE=Online:geo:0,0
END:VEVENT
BEGIN:VTIMEZONE
TZID:America/Los_Angeles
X-LIC-LOCATION:America/Los_Angeles
BEGIN:DAYLIGHT
DTSTART:20260308T030000
TZOFFSETFROM:-0800
TZOFFSETTO:-0700
TZNAME:PDT
END:DAYLIGHT
END:VTIMEZONE
END:VCALENDAR