BEGIN:VCALENDAR
VERSION:2.0
PRODID:-//wp-events-plugin.com//7.2.3.1//EN
TZID:America/Los_Angeles
X-WR-TIMEZONE:America/Los_Angeles
BEGIN:VEVENT
UID:5@lafilm.edu
DTSTART;TZID=America/Los_Angeles:20260122T120000
DTEND;TZID=America/Los_Angeles:20260122T130000
DTSTAMP:20260120T225629Z
URL:https://www.lafilm.edu/events/critical-thinkers-society-presents-visio
 n-board-breakdown/
SUMMARY:Critical Thinkers Society Presents: Vision Board Breakdown
DESCRIPTION:Express yourself and strengthen your upcoming projects creative
 ly by joining us in creating a vision board! Share your ideas and learn th
 e importance of vision boards for music and film!\n\nNOTE: this event is o
 pen for students with a student ID only.
ATTACH;FMTTYPE=image/jpeg:https://www.lafilm.edu/wp-content/uploads/2026/0
 1/January-Critical-Thinkers-Society-1.webp
CATEGORIES:Socialize IRL,Student Clubs
LOCATION:In Person\, \, 
X-APPLE-STRUCTURED-LOCATION;VALUE=URI;X-ADDRESS=\, ;X-APPLE-RADIUS=100;X-TI
 TLE=In Person:geo:0,0
END:VEVENT
BEGIN:VTIMEZONE
TZID:America/Los_Angeles
X-LIC-LOCATION:America/Los_Angeles
BEGIN:STANDARD
DTSTART:20251102T010000
TZOFFSETFROM:-0700
TZOFFSETTO:-0800
TZNAME:PST
END:STANDARD
END:VTIMEZONE
END:VCALENDAR