BEGIN:VCALENDAR
VERSION:2.0
PRODID:-//wp-events-plugin.com//7.2.3.1//EN
TZID:America/Los_Angeles
X-WR-TIMEZONE:America/Los_Angeles
BEGIN:VEVENT
UID:15@lafilm.edu
DTSTART;TZID=America/Los_Angeles:20260227T110000
DTEND;TZID=America/Los_Angeles:20260227T120000
DTSTAMP:20260129T191943Z
URL:https://www.lafilm.edu/events/february-2026-graduation/
SUMMARY:February 2026 Graduation
DESCRIPTION:We are excited to announce our Graduation Ceremony for the Febr
 uary 2026 class! Please join us in celebrating their accomplishment. Gradu
 ates\, we are so proud and can’t wait to see the incredible things you
 ’ll do in the Entertainment Industry!\nWatch Here!
ATTACH;FMTTYPE=image/jpeg:https://www.lafilm.edu/wp-content/uploads/2026/0
 1/GRAD_newsletter-icon-26.webp
CATEGORIES:Academic Calendar
LOCATION:https://lafilm.edu/live
END:VEVENT
BEGIN:VTIMEZONE
TZID:America/Los_Angeles
X-LIC-LOCATION:America/Los_Angeles
BEGIN:STANDARD
DTSTART:20251102T010000
TZOFFSETFROM:-0700
TZOFFSETTO:-0800
TZNAME:PST
END:STANDARD
END:VTIMEZONE
END:VCALENDAR