BEGIN:VCALENDAR
VERSION:2.0
PRODID:-//wp-events-plugin.com//7.2.3.1//EN
TZID:America/Los_Angeles
X-WR-TIMEZONE:America/Los_Angeles
BEGIN:VEVENT
UID:23@lafilm.edu
DTSTART;TZID=America/Los_Angeles:20260218T120000
DTEND;TZID=America/Los_Angeles:20260218T130000
DTSTAMP:20260216T191121Z
URL:https://www.lafilm.edu/events/global-connections/
SUMMARY:Global Connections
DESCRIPTION:Join us for Global Connections\, a once-a-quarter event that's 
 all about coming together to foster a sense of community. We'll be in the 
 B2 Lobby on February 18th\, from 12pm to 1pm with board games and pizza. S
 top to grab a slice and connect with your peers!\n\nReach out to peeradvis
 ors@/lafilm.edu to learn more about our student programming events.\n\n\nT
 his event is only open to current and active students.
ATTACH;FMTTYPE=image/jpeg:https://www.lafilm.edu/wp-content/uploads/2026/0
 2/SINGLE_EVENT_ICON_Global-Connections-Feb2026-560x560-1.webp
CATEGORIES:Socialize IRL
LOCATION:In Person\, \, 
X-APPLE-STRUCTURED-LOCATION;VALUE=URI;X-ADDRESS=\, ;X-APPLE-RADIUS=100;X-TI
 TLE=In Person:geo:0,0
END:VEVENT
BEGIN:VTIMEZONE
TZID:America/Los_Angeles
X-LIC-LOCATION:America/Los_Angeles
BEGIN:STANDARD
DTSTART:20251102T010000
TZOFFSETFROM:-0700
TZOFFSETTO:-0800
TZNAME:PST
END:STANDARD
END:VTIMEZONE
END:VCALENDAR