BEGIN:VCALENDAR
VERSION:2.0
PRODID:-//wp-events-plugin.com//7.2.3.1//EN
TZID:America/Los_Angeles
X-WR-TIMEZONE:America/Los_Angeles
BEGIN:VEVENT
UID:6@lafilm.edu
DTSTART;TZID=America/Los_Angeles:20260123T110000
DTEND;TZID=America/Los_Angeles:20260123T120000
DTSTAMP:20260120T234223Z
URL:https://www.lafilm.edu/events/january-2026-graduation/
SUMMARY:January 2026 Graduation
DESCRIPTION:We are excited to announce our Graduation Ceremony for the Janu
 ary 2026 class! Please join us in celebrating their accomplishment. Gradua
 tes\, we are so proud and can’t wait to see the incredible things you’
 ll do in the Entertainment Industry!\nWatch Here!
ATTACH;FMTTYPE=image/jpeg:https://www.lafilm.edu/wp-content/uploads/2026/0
 1/GRAD_newsletter-icon-26.webp
CATEGORIES:Academic Calendar
LOCATION:Hybrid\, \, 
X-APPLE-STRUCTURED-LOCATION;VALUE=URI;X-ADDRESS=\, ;X-APPLE-RADIUS=100;X-TI
 TLE=Hybrid:geo:0,0
END:VEVENT
BEGIN:VTIMEZONE
TZID:America/Los_Angeles
X-LIC-LOCATION:America/Los_Angeles
BEGIN:STANDARD
DTSTART:20251102T010000
TZOFFSETFROM:-0700
TZOFFSETTO:-0800
TZNAME:PST
END:STANDARD
END:VTIMEZONE
END:VCALENDAR