BEGIN:VCALENDAR
VERSION:2.0
PRODID:-//wp-events-plugin.com//7.2.3.1//EN
TZID:America/Los_Angeles
X-WR-TIMEZONE:America/Los_Angeles
BEGIN:VEVENT
UID:39@lafilm.edu
DTSTART;TZID=America/Los_Angeles:20260501T180000
DTEND;TZID=America/Los_Angeles:20260501T180000
DTSTAMP:20260331T202416Z
URL:https://www.lafilm.edu/events/join-the-qmmunity-club-7/
SUMMARY:Join the Q+mmunity Club!
DESCRIPTION:Dedicated to the LGBTQ+ community\, encompassing all queer and 
 questioning individuals. We also welcome allies of the queer community. Ad
 d the meeting to your calendar! If you have any questions or would like us
  to add you to our email list\, contact Matt Castillo (he/they) at mcasti
 llo@/lafilm.edu.\nJoin Here
ATTACH;FMTTYPE=image/jpeg:https://www.lafilm.edu/wp-content/uploads/2026/0
 3/2026_05_01-Qmmunity-Club-Meeting-Standard-560.webp
CATEGORIES:Student Clubs
LOCATION:https://lafilm.zoom.us/j/84318634001?pwd=KWM42IERsvaN15NiythbphIpN
 aUMSJ.1
END:VEVENT
BEGIN:VTIMEZONE
TZID:America/Los_Angeles
X-LIC-LOCATION:America/Los_Angeles
BEGIN:DAYLIGHT
DTSTART:20260308T030000
TZOFFSETFROM:-0800
TZOFFSETTO:-0700
TZNAME:PDT
END:DAYLIGHT
END:VTIMEZONE
END:VCALENDAR