BEGIN:VCALENDAR
VERSION:2.0
PRODID:-//wp-events-plugin.com//7.2.3.1//EN
TZID:America/Los_Angeles
X-WR-TIMEZONE:America/Los_Angeles
BEGIN:VEVENT
UID:7@lafilm.edu
DTSTART;TZID=America/Los_Angeles:20260130T180000
DTEND;TZID=America/Los_Angeles:20260130T180000
DTSTAMP:20260120T234541Z
URL:https://www.lafilm.edu/events/join-the-qmmunity-club/
SUMMARY:Join the Q+mmunity Club!
DESCRIPTION:Dedicated to the LGBTQ+ community\, encompassing all queer and 
 questioning individuals. We also welcome allies of the queer community. Ad
 d the meeting to your calendar! If you have any questions or would like us
  to add you to our email list\, contact Matt Castillo (he/they) at mcasti
 llo@/lafilm.edu.\nJoin Here: https://lafilm.zoom.us/j/84318634001?pwd=KWM
 42IERsvaN15NiythbphIpNaUMSJ.1
ATTACH;FMTTYPE=image/jpeg:https://www.lafilm.edu/wp-content/uploads/2026/0
 1/2026_01_30-Qmmunity-Club-Meeting-Standard-1080-min.webp
CATEGORIES:Student Clubs
LOCATION:https://lafilm.zoom.us/j/84318634001?pwd=KWM42IERsvaN15NiythbphIpN
 aUMSJ.1
END:VEVENT
BEGIN:VTIMEZONE
TZID:America/Los_Angeles
X-LIC-LOCATION:America/Los_Angeles
BEGIN:STANDARD
DTSTART:20251102T010000
TZOFFSETFROM:-0700
TZOFFSETTO:-0800
TZNAME:PST
END:STANDARD
END:VTIMEZONE
END:VCALENDAR