BEGIN:VCALENDAR
VERSION:2.0
PRODID:-//wp-events-plugin.com//7.2.3.1//EN
TZID:America/Los_Angeles
X-WR-TIMEZONE:America/Los_Angeles
BEGIN:VEVENT
UID:35@lafilm.edu
DTSTART;TZID=America/Los_Angeles:20260408T120000
DTEND;TZID=America/Los_Angeles:20260408T120000
DTSTAMP:20260324T213846Z
URL:https://www.lafilm.edu/events/karaoke/
SUMMARY:Karaoke
DESCRIPTION:Sing it. Speak it. Perform it. We’re bringing the stage to ca
 mpus—karaoke\, music\, spoken word\, all of it. Whether you’re perform
 ing or just vibing\, you’re invited!\n\nThis event is for students with 
 a student ID\, please check your email to RSVP!
ATTACH;FMTTYPE=image/jpeg:https://www.lafilm.edu/wp-content/uploads/2026/0
 3/lafs-karaoke.webp
CATEGORIES:Show Your Skills,Socialize IRL
LOCATION:In Person\, \, 
X-APPLE-STRUCTURED-LOCATION;VALUE=URI;X-ADDRESS=\, ;X-APPLE-RADIUS=100;X-TI
 TLE=In Person:geo:0,0
END:VEVENT
BEGIN:VTIMEZONE
TZID:America/Los_Angeles
X-LIC-LOCATION:America/Los_Angeles
BEGIN:DAYLIGHT
DTSTART:20260308T030000
TZOFFSETFROM:-0800
TZOFFSETTO:-0700
TZNAME:PDT
END:DAYLIGHT
END:VTIMEZONE
END:VCALENDAR