BEGIN:VCALENDAR
VERSION:2.0
PRODID:-//wp-events-plugin.com//7.2.3.1//EN
TZID:America/Los_Angeles
X-WR-TIMEZONE:America/Los_Angeles
BEGIN:VEVENT
UID:3@lafilm.edu
DTSTART;TZID=America/Los_Angeles:20260121T120000
DTEND;TZID=America/Los_Angeles:20260121T130000
DTSTAMP:20260120T204042Z
URL:https://www.lafilm.edu/events/lars-open-mic/
SUMMARY:LARS Open Mic
DESCRIPTION:Express your creativity through spoken word and music at LARS O
 pen Mic. Come and sign up! Hang out\, enjoy some snacks and support your f
 ellow students at this casual open mic! Performers will go on in the order
  they sign up that day.\n\nStudents check your email to sign up!
ATTACH;FMTTYPE=image/jpeg:https://www.lafilm.edu/wp-content/uploads/2026/0
 1/LARS-OPENMIC-JAN-3_ICON1-1-min.webp
CATEGORIES:Show Your Skills,Socialize IRL
LOCATION:In Person\, \, 
X-APPLE-STRUCTURED-LOCATION;VALUE=URI;X-ADDRESS=\, ;X-APPLE-RADIUS=100;X-TI
 TLE=In Person:geo:0,0
END:VEVENT
BEGIN:VTIMEZONE
TZID:America/Los_Angeles
X-LIC-LOCATION:America/Los_Angeles
BEGIN:STANDARD
DTSTART:20251102T010000
TZOFFSETFROM:-0700
TZOFFSETTO:-0800
TZNAME:PST
END:STANDARD
END:VTIMEZONE
END:VCALENDAR