BEGIN:VCALENDAR
VERSION:2.0
PRODID:-//wp-events-plugin.com//7.2.3.1//EN
TZID:America/Los_Angeles
X-WR-TIMEZONE:America/Los_Angeles
BEGIN:VEVENT
UID:18@lafilm.edu
DTSTART;TZID=America/Los_Angeles:20260212T000000
DTEND;TZID=America/Los_Angeles:20260212T000000
DTSTAMP:20260204T234218Z
URL:https://www.lafilm.edu/events/library-lovers-month/
SUMMARY:Library Lovers Month
DESCRIPTION:The LAFS Library is celebrating Library Lovers' Day and Valenti
 ne’s Day with a sweet pop-up event! Stop by the B2 Lobby on Thursday\, 2
 /12 from 12:00-2:00pm PT to create your own custom bookmarks and enjoy som
 e treats. Whether you’re celebrating love\, books\, or both\, we’d lov
 e to see you there! All students\, alumni\, and staff are welcome!\n
ATTACH;FMTTYPE=image/jpeg:https://www.lafilm.edu/wp-content/uploads/2026/0
 2/lld2025-1.webp
CATEGORIES:Enrich Yourself
LOCATION:In Person\, \, 
X-APPLE-STRUCTURED-LOCATION;VALUE=URI;X-ADDRESS=\, ;X-APPLE-RADIUS=100;X-TI
 TLE=In Person:geo:0,0
END:VEVENT
BEGIN:VTIMEZONE
TZID:America/Los_Angeles
X-LIC-LOCATION:America/Los_Angeles
BEGIN:STANDARD
DTSTART:20251102T010000
TZOFFSETFROM:-0700
TZOFFSETTO:-0800
TZNAME:PST
END:STANDARD
END:VTIMEZONE
END:VCALENDAR