BEGIN:VCALENDAR
VERSION:2.0
PRODID:-//wp-events-plugin.com//7.2.3.1//EN
TZID:America/Los_Angeles
X-WR-TIMEZONE:America/Los_Angeles
BEGIN:VEVENT
UID:19@lafilm.edu
DTSTART;TZID=America/Los_Angeles:20260409T120000
DTEND;TZID=America/Los_Angeles:20260409T130000
DTSTAMP:20260324T214514Z
URL:https://www.lafilm.edu/events/library-pop-up-at-lars/
SUMMARY:Library Pop Up at LARS
DESCRIPTION:Stop by the Library booth at LARS to check out books\, learn ho
 w to access a wide range of digital and physical resources\, and get answe
 rs to any questions you have about the Library. We look forward to seeing 
 you there!
ATTACH;FMTTYPE=image/jpeg:https://www.lafilm.edu/wp-content/uploads/2025/0
 4/LAFS-Library-at-LARS-Pop-Up-Event-Square-min-min.png
CATEGORIES:Socialize IRL
LOCATION:In Person\, \, 
X-APPLE-STRUCTURED-LOCATION;VALUE=URI;X-ADDRESS=\, ;X-APPLE-RADIUS=100;X-TI
 TLE=In Person:geo:0,0
END:VEVENT
BEGIN:VTIMEZONE
TZID:America/Los_Angeles
X-LIC-LOCATION:America/Los_Angeles
BEGIN:DAYLIGHT
DTSTART:20260308T030000
TZOFFSETFROM:-0800
TZOFFSETTO:-0700
TZNAME:PDT
END:DAYLIGHT
END:VTIMEZONE
END:VCALENDAR