BEGIN:VCALENDAR
VERSION:2.0
PRODID:-//wp-events-plugin.com//7.2.3.1//EN
TZID:America/Los_Angeles
X-WR-TIMEZONE:America/Los_Angeles
BEGIN:VEVENT
UID:28@lafilm.edu
DTSTART;TZID=America/Los_Angeles:20260311T120000
DTEND;TZID=America/Los_Angeles:20260311T120000
DTSTAMP:20260302T235258Z
URL:https://www.lafilm.edu/events/library-vinyl-listening-session-celebrat
 ing-women-in-music/
SUMMARY:Library Vinyl Listening Session: Celebrating Women in Music
DESCRIPTION:Celebrate Women’s History Month with us at our Vinyl Listenin
 g Session from 12:00–2:00pm PT. Students\, staff\, and alumni are invite
 d to bring vinyl records by their favorite female artists and play one to 
 two songs. We’ll also be spinning selections from the Library’s vinyl 
 collection. Come listen\, share\, and celebrate women in music!
ATTACH;FMTTYPE=image/jpeg:https://www.lafilm.edu/wp-content/uploads/2026/0
 3/Library-Vinyl-Listening-Session-March-Women-in-Music-2026.webp
CATEGORIES:Socialize IRL,Student Powered
END:VEVENT
BEGIN:VTIMEZONE
TZID:America/Los_Angeles
X-LIC-LOCATION:America/Los_Angeles
BEGIN:DAYLIGHT
DTSTART:20260308T030000
TZOFFSETFROM:-0800
TZOFFSETTO:-0700
TZNAME:PDT
END:DAYLIGHT
END:VTIMEZONE
END:VCALENDAR