BEGIN:VCALENDAR
VERSION:2.0
PRODID:-//wp-events-plugin.com//7.2.3.1//EN
TZID:America/Los_Angeles
X-WR-TIMEZONE:America/Los_Angeles
BEGIN:VEVENT
UID:17@lafilm.edu
DTSTART;TZID=America/Los_Angeles:20260413T090000
DTEND;TZID=America/Los_Angeles:20260413T091500
DTSTAMP:20260406T223237Z
URL:https://www.lafilm.edu/events/meditation-mondays-with-emily-2/
SUMMARY:Meditation Mondays with Emily
DESCRIPTION:Every Monday Morning\nBegin your week with intention through a 
 calming 10-minute guided mindfulness meditation session every Monday. Join
  us to reconnect with your body and mind\, cultivate awareness\, and creat
 e a peaceful mental space to begin your week centered and grounded. Perfec
 t for finding balance and calm\, this quick meditation offers a moment to 
 pause\, breathe\, and reset. No prior experience needed—just bring yours
 elf and a desire to practice being present and mindful.\n\nStudents check 
 your email or Connect to join!
ATTACH;FMTTYPE=image/jpeg:https://www.lafilm.edu/wp-content/uploads/2026/0
 1/monday-meditation.webp
CATEGORIES:Wellness
LOCATION:Online\, \, United States
X-APPLE-STRUCTURED-LOCATION;VALUE=URI;X-ADDRESS=\, United States;X-APPLE-RA
 DIUS=100;X-TITLE=Online:geo:0,0
END:VEVENT
BEGIN:VTIMEZONE
TZID:America/Los_Angeles
X-LIC-LOCATION:America/Los_Angeles
BEGIN:DAYLIGHT
DTSTART:20260308T030000
TZOFFSETFROM:-0800
TZOFFSETTO:-0700
TZNAME:PDT
END:DAYLIGHT
END:VTIMEZONE
END:VCALENDAR