BEGIN:VCALENDAR
VERSION:2.0
PRODID:-//wp-events-plugin.com//7.2.3.1//EN
TZID:America/Los_Angeles
X-WR-TIMEZONE:America/Los_Angeles
BEGIN:VEVENT
UID:22@lafilm.edu
DTSTART;TZID=America/Los_Angeles:20260226T163000
DTEND;TZID=America/Los_Angeles:20260226T163000
DTSTAMP:20260212T013958Z
URL:https://www.lafilm.edu/events/selling-yourself-as-an-artist-with-james
 -parris/
SUMMARY:Selling Yourself As an Artist with James Parris
DESCRIPTION:Join us for an inspiring digital talk with James Parris\, Our A
 nimation Career Advisor\, and accomplished digital artist and animator wit
 h credits in amazing projects like\, Lion King\, Mulan\, and Spider-Man!\n
 \nJoin us for a dynamic Zoom talk where James shares his 4 Pillars of Succ
 ess for animators and visual artists\, with a special focus on how to sell
  yourself and stand out in the industry.\n\nWhether you’re just getting 
 started or getting ready to break in\, this session delivers real-world ad
 vice\, practical tools\, and the confidence you need to take your creative
  career to the next level.\n\nJames' LinkedIn:\nhttps://www.linkedin.com/i
 n/james-parris-0264581/\n\n\n\nStudents check your email or Connect to joi
 n!
ATTACH;FMTTYPE=image/jpeg:https://www.lafilm.edu/wp-content/uploads/2026/0
 2/NEWSLETTER_selling-yourself-artist-560x560-1.webp
CATEGORIES:Guest Speakers
LOCATION:Online\, \, United States
X-APPLE-STRUCTURED-LOCATION;VALUE=URI;X-ADDRESS=\, United States;X-APPLE-RA
 DIUS=100;X-TITLE=Online:geo:0,0
END:VEVENT
BEGIN:VTIMEZONE
TZID:America/Los_Angeles
X-LIC-LOCATION:America/Los_Angeles
BEGIN:STANDARD
DTSTART:20251102T010000
TZOFFSETFROM:-0700
TZOFFSETTO:-0800
TZNAME:PST
END:STANDARD
END:VTIMEZONE
END:VCALENDAR