BEGIN:VCALENDAR
VERSION:2.0
PRODID:-//wp-events-plugin.com//7.2.3.1//EN
TZID:America/Los_Angeles
X-WR-TIMEZONE:America/Los_Angeles
BEGIN:VEVENT
UID:29@lafilm.edu
DTSTART;TZID=America/Los_Angeles:20260330T000000
DTEND;TZID=America/Los_Angeles:20260405T000000
DTSTAMP:20260313T235133Z
URL:https://www.lafilm.edu/events/spring-break/
SUMMARY:Spring Break
DESCRIPTION:Spring Break begins on Monday\, 3/30\, and runs through Sunday\
 , 4/5. Looking to make the most of your term break? Check out our wellness
  tips to help you recharge.
ATTACH;FMTTYPE=image/jpeg:https://www.lafilm.edu/wp-content/uploads/2026/0
 3/springbreak.webp
CATEGORIES:Academic Calendar
END:VEVENT
BEGIN:VTIMEZONE
TZID:America/Los_Angeles
X-LIC-LOCATION:America/Los_Angeles
BEGIN:DAYLIGHT
DTSTART:20260308T030000
TZOFFSETFROM:-0800
TZOFFSETTO:-0700
TZNAME:PDT
END:DAYLIGHT
END:VTIMEZONE
END:VCALENDAR