BEGIN:VCALENDAR
VERSION:2.0
PRODID:-//wp-events-plugin.com//7.2.3.1//EN
TZID:America/Los_Angeles
X-WR-TIMEZONE:America/Los_Angeles
BEGIN:VEVENT
UID:36@lafilm.edu
DTSTART;TZID=America/Los_Angeles:20260326T163000
DTEND;TZID=America/Los_Angeles:20260326T173000
DTSTAMP:20260324T220709Z
URL:https://www.lafilm.edu/events/the-animation-department-presents-indust
 ry-unfiltered/
SUMMARY:The Animation Department Presents: Industry Unfiltered
DESCRIPTION:Don't miss this incredible opportunity to hear from four indust
 ry veterans! Join us for a live Zoom panel discussion where animation\, VF
 X\, and game art professionals Jay\, Ken\, Jayme\, and Russell pull back t
 he curtain on what it really takes to work in production. From blockbuster
  films and AAA games to virtual production and tabletop sculpting\, these 
 guests bring decades of real-world experience across the full spectrum of 
 the industry. Whether you're just starting out or leveling up your career\
 , this is the kind of insider knowledge you can't get from a textbook. Com
 e ready with your questions!\n\nStudents check your email to sign up!
ATTACH;FMTTYPE=image/jpeg:https://www.lafilm.edu/wp-content/uploads/2026/0
 3/NEWSLETTER_animation-degree-wide-560x560-1.webp
CATEGORIES:Guest Speakers
LOCATION:Online\, \, United States
X-APPLE-STRUCTURED-LOCATION;VALUE=URI;X-ADDRESS=\, United States;X-APPLE-RA
 DIUS=100;X-TITLE=Online:geo:0,0
END:VEVENT
BEGIN:VTIMEZONE
TZID:America/Los_Angeles
X-LIC-LOCATION:America/Los_Angeles
BEGIN:DAYLIGHT
DTSTART:20260308T030000
TZOFFSETFROM:-0800
TZOFFSETTO:-0700
TZNAME:PDT
END:DAYLIGHT
END:VTIMEZONE
END:VCALENDAR