BEGIN:VCALENDAR
VERSION:2.0
PRODID:-//wp-events-plugin.com//7.2.3.1//EN
TZID:America/Los_Angeles
X-WR-TIMEZONE:America/Los_Angeles
BEGIN:VEVENT
UID:4@lafilm.edu
DTSTART;TZID=America/Los_Angeles:20260418T100000
DTEND;TZID=America/Los_Angeles:20260418T130000
DTSTAMP:20260324T215447Z
URL:https://www.lafilm.edu/events/the-college-campus-tour/
SUMMARY:The College Campus Tour
DESCRIPTION:Tour our Hollywood campus and experience The Los Angeles Film S
 chool in person.\n\nMeet with our program instructors from Film\, Animatio
 n\, Entertainment Business and Music/Audio. They will walk you through the
  hands-on curricula and let you know what a day in the life of an L.A. Fil
 m School student looks like.\n\nRSVP Here
ATTACH;FMTTYPE=image/jpeg:https://www.lafilm.edu/wp-content/uploads/2024/0
 7/CAMPUSTOUR_website-assets-02.jpg
CATEGORIES:Academic Calendar
LOCATION:The Los Angeles Film School\, 6363 Sunset Boulevard\, Hollywood\, 
 CA\, 90028\, United States
X-APPLE-STRUCTURED-LOCATION;VALUE=URI;X-ADDRESS=6363 Sunset Boulevard\, Hol
 lywood\, CA\, 90028\, United States;X-APPLE-RADIUS=100;X-TITLE=The Los Ang
 eles Film School:geo:0,0
END:VEVENT
BEGIN:VTIMEZONE
TZID:America/Los_Angeles
X-LIC-LOCATION:America/Los_Angeles
BEGIN:DAYLIGHT
DTSTART:20260308T030000
TZOFFSETFROM:-0800
TZOFFSETTO:-0700
TZNAME:PDT
END:DAYLIGHT
END:VTIMEZONE
END:VCALENDAR