BEGIN:VCALENDAR
VERSION:2.0
PRODID:-//wp-events-plugin.com//7.2.3.1//EN
TZID:America/Los_Angeles
X-WR-TIMEZONE:America/Los_Angeles
BEGIN:VEVENT
UID:21@lafilm.edu
DTSTART;TZID=America/Los_Angeles:20260219T153000
DTEND;TZID=America/Los_Angeles:20260219T153000
DTSTAMP:20260212T005947Z
URL:https://www.lafilm.edu/events/the-creative-lounge/
SUMMARY:The Creative Lounge
DESCRIPTION:Join us in the Creative Lounge\, a dedicated space to create\, 
 connect\, and let ideas flow. Whether you're cramming assignments before t
 he end of the term or getting a headstart on next month's projects\, the C
 reative Lounge is the study space for you. Come see where your creativity 
 can take you! Join us in B2 Room 1028 on Thursday\, 2/19 from 3:30–5:30p
 m PT for pizza and Peer Advising support. Hope to see you there! Questions
 ? Email peeradvisors@/lafilm.edu.\nNOTE: this is a private event for Stude
 nts with a student ID only.
ATTACH;FMTTYPE=image/jpeg:https://www.lafilm.edu/wp-content/uploads/2026/0
 2/The-Creative-Lounge-Febraury-2026-1.webp
CATEGORIES:Enrich Yourself
LOCATION:In Person\, \, 
X-APPLE-STRUCTURED-LOCATION;VALUE=URI;X-ADDRESS=\, ;X-APPLE-RADIUS=100;X-TI
 TLE=In Person:geo:0,0
END:VEVENT
BEGIN:VTIMEZONE
TZID:America/Los_Angeles
X-LIC-LOCATION:America/Los_Angeles
BEGIN:STANDARD
DTSTART:20251102T010000
TZOFFSETFROM:-0700
TZOFFSETTO:-0800
TZNAME:PST
END:STANDARD
END:VTIMEZONE
END:VCALENDAR