BEGIN:VCALENDAR
VERSION:2.0
PRODID:-//wp-events-plugin.com//7.2.3.1//EN
TZID:America/Los_Angeles
X-WR-TIMEZONE:America/Los_Angeles
BEGIN:VEVENT
UID:45@lafilm.edu
DTSTART;TZID=America/Los_Angeles:20260428T153000
DTEND;TZID=America/Los_Angeles:20260428T153000
DTSTAMP:20260414T162926Z
URL:https://www.lafilm.edu/events/the-plug/
SUMMARY:The Plug
DESCRIPTION:Welcome to The Plug: a networking event helping students find 
 “their plug\,” someone who has the skills\, access\, or knowledge they
  need for their projects. All programs are invited!\n\nBring your projects
 \, find the crew you need\, and start collaborating in real time. Instead 
 of traditional critique\, the focus will be on action. After each presenta
 tion\, students will be invited to collaborate with their “plug” and i
 mmediately take the next step. No awkward networking — just real connect
 ions and action. Oh\, and there's free food too!\n\nStudents check your em
 ail or connect to join. This event is open to active students with ID.
ATTACH;FMTTYPE=image/jpeg:https://www.lafilm.edu/wp-content/uploads/2026/0
 4/the-plug-flyer.webp
CATEGORIES:Socialize IRL,Student Powered
END:VEVENT
BEGIN:VTIMEZONE
TZID:America/Los_Angeles
X-LIC-LOCATION:America/Los_Angeles
BEGIN:DAYLIGHT
DTSTART:20260308T030000
TZOFFSETFROM:-0800
TZOFFSETTO:-0700
TZNAME:PDT
END:DAYLIGHT
END:VTIMEZONE
END:VCALENDAR