BEGIN:VCALENDAR
VERSION:2.0
PRODID:-//wp-events-plugin.com//7.2.3.1//EN
TZID:America/Los_Angeles
X-WR-TIMEZONE:America/Los_Angeles
BEGIN:VEVENT
UID:34@lafilm.edu
DTSTART;TZID=America/Los_Angeles:20260324T120000
DTEND;TZID=America/Los_Angeles:20260324T130000
DTSTAMP:20260323T153444Z
URL:https://www.lafilm.edu/events/troop-talks/
SUMMARY:Troop Talks
DESCRIPTION:Join us for Troop Talks\, a casual environment where veterans a
 nd military students can come socialize\, network\, and build community. W
 e'll have some pre-prepared prompts and questions available to help break 
 the ice\, and there will be refreshments offered on a first-come\, first-s
 erve basis. Email PeerAdvisors@/lafilm.edu with any questions.\nStudents c
 heck your email or connect to join!
ATTACH;FMTTYPE=image/jpeg:https://www.lafilm.edu/wp-content/uploads/2026/0
 3/Troop-Talks-March-2026-1.webp
CATEGORIES:Military
LOCATION:In Person\, \, 
X-APPLE-STRUCTURED-LOCATION;VALUE=URI;X-ADDRESS=\, ;X-APPLE-RADIUS=100;X-TI
 TLE=In Person:geo:0,0
END:VEVENT
BEGIN:VTIMEZONE
TZID:America/Los_Angeles
X-LIC-LOCATION:America/Los_Angeles
BEGIN:DAYLIGHT
DTSTART:20260308T030000
TZOFFSETFROM:-0800
TZOFFSETTO:-0700
TZNAME:PDT
END:DAYLIGHT
END:VTIMEZONE
END:VCALENDAR