BEGIN:VCALENDAR
VERSION:2.0
PRODID:-//wp-events-plugin.com//7.2.3.1//EN
TZID:America/Los_Angeles
X-WR-TIMEZONE:America/Los_Angeles
BEGIN:VEVENT
UID:46@lafilm.edu
DTSTART;TZID=America/Los_Angeles:20260428T140000
DTEND;TZID=America/Los_Angeles:20260428T140000
DTSTAMP:20260423T172305Z
URL:https://www.lafilm.edu/events/virtual-open-house/
SUMMARY:Virtual Open House
DESCRIPTION:You’re invited to our Virtual Open House – a digital experi
 ence designed to give you a view of what life as a student with us looks l
 ike\, whether you’re joining us on Sunset Boulevard or learning from acr
 oss the globe.\n\nThis is much more than a webinar. It’s your backstage 
 pass to the entertainment industry. You’ll see the tech that powers our 
 classrooms\, and discover how we bridge the gap between “dreaming” and
  “doing.”\n\nSign up now!
ATTACH;FMTTYPE=image/jpeg:https://www.lafilm.edu/wp-content/uploads/2026/0
 4/VOH_newsletter600x600.webp
LOCATION:/virtual-open-house
END:VEVENT
BEGIN:VTIMEZONE
TZID:America/Los_Angeles
X-LIC-LOCATION:America/Los_Angeles
BEGIN:DAYLIGHT
DTSTART:20260308T030000
TZOFFSETFROM:-0800
TZOFFSETTO:-0700
TZNAME:PDT
END:DAYLIGHT
END:VTIMEZONE
END:VCALENDAR