BEGIN:VCALENDAR
VERSION:2.0
PRODID:-//wp-events-plugin.com//7.2.3.1//EN
TZID:America/Los_Angeles
X-WR-TIMEZONE:America/Los_Angeles
BEGIN:VEVENT
UID:44@lafilm.edu
DTSTART;TZID=America/Los_Angeles:20260420T153000
DTEND;TZID=America/Los_Angeles:20260420T153000
DTSTAMP:20260414T162953Z
URL:https://www.lafilm.edu/events/virtual-social-hour-open-mic-night/
SUMMARY:Virtual Social Hour: Open Mic Night
DESCRIPTION:You're invited to Virtual Social Hour: Open Mic Night! Whether 
 you're a poet\, musician\, storyteller\, or just want to cheer others on\,
  this is your space to shine. Come celebrate creativity and self-expressio
 n in a welcoming and supportive environment.\n\nthis event is open only to
  students with a student ID
ATTACH;FMTTYPE=image/jpeg:https://www.lafilm.edu/wp-content/uploads/2026/0
 4/open-mic-night-peer-advisors.webp
CATEGORIES:Show Your Skills,Socialize Online
LOCATION:Online\, \, United States
X-APPLE-STRUCTURED-LOCATION;VALUE=URI;X-ADDRESS=\, United States;X-APPLE-RA
 DIUS=100;X-TITLE=Online:geo:0,0
END:VEVENT
BEGIN:VTIMEZONE
TZID:America/Los_Angeles
X-LIC-LOCATION:America/Los_Angeles
BEGIN:DAYLIGHT
DTSTART:20260308T030000
TZOFFSETFROM:-0800
TZOFFSETTO:-0700
TZNAME:PDT
END:DAYLIGHT
END:VTIMEZONE
END:VCALENDAR